BEGIN:VCALENDAR
VERSION:2.0
PRODID:-//1880 Town - ECPv6.15.20//NONSGML v1.0//EN
CALSCALE:GREGORIAN
METHOD:PUBLISH
X-ORIGINAL-URL:https://www.1880town.com
X-WR-CALDESC:Events for 1880 Town
REFRESH-INTERVAL;VALUE=DURATION:PT1H
X-Robots-Tag:noindex
X-PUBLISHED-TTL:PT1H
BEGIN:VTIMEZONE
TZID:America/Denver
BEGIN:DAYLIGHT
TZOFFSETFROM:-0700
TZOFFSETTO:-0600
TZNAME:MDT
DTSTART:20240310T090000
END:DAYLIGHT
BEGIN:STANDARD
TZOFFSETFROM:-0600
TZOFFSETTO:-0700
TZNAME:MST
DTSTART:20241103T080000
END:STANDARD
BEGIN:DAYLIGHT
TZOFFSETFROM:-0700
TZOFFSETTO:-0600
TZNAME:MDT
DTSTART:20250309T090000
END:DAYLIGHT
BEGIN:STANDARD
TZOFFSETFROM:-0600
TZOFFSETTO:-0700
TZNAME:MST
DTSTART:20251102T080000
END:STANDARD
BEGIN:DAYLIGHT
TZOFFSETFROM:-0700
TZOFFSETTO:-0600
TZNAME:MDT
DTSTART:20260308T090000
END:DAYLIGHT
BEGIN:STANDARD
TZOFFSETFROM:-0600
TZOFFSETTO:-0700
TZNAME:MST
DTSTART:20261101T080000
END:STANDARD
END:VTIMEZONE
BEGIN:VEVENT
DTSTART;TZID=America/Denver:20250830T140000
DTEND;TZID=America/Denver:20250830T150000
DTSTAMP:20260420T121449
CREATED:20250529T194837Z
LAST-MODIFIED:20250529T194837Z
UID:10002616-1756562400-1756566000@www.1880town.com
SUMMARY:Strong Man Steve - 2 pm Performance
DESCRIPTION:
URL:https://www.1880town.com/event/strong-man-steve-2-pm-performance/
LOCATION:Black Smith Shop\, 24280 SD Hwy 63 I90 Exit\, 170\, Midland\, South Dakota\, 57552\, United States
CATEGORIES:Entertainer/Talent
END:VEVENT
BEGIN:VEVENT
DTSTART;TZID=America/Denver:20250830T120000
DTEND;TZID=America/Denver:20250830T130000
DTSTAMP:20260420T121449
CREATED:20250529T194741Z
LAST-MODIFIED:20250529T194742Z
UID:10002615-1756555200-1756558800@www.1880town.com
SUMMARY:Strong Man Steve - 12 pm Performance
DESCRIPTION:
URL:https://www.1880town.com/event/strong-man-steve-12-pm-performance/
LOCATION:Black Smith Shop\, 24280 SD Hwy 63 I90 Exit\, 170\, Midland\, South Dakota\, 57552\, United States
CATEGORIES:Entertainer/Talent
END:VEVENT
BEGIN:VEVENT
DTSTART;TZID=America/Denver:20250704T110000
DTEND;TZID=America/Denver:20250704T140000
DTSTAMP:20260420T121449
CREATED:20250528T211209Z
LAST-MODIFIED:20250528T211652Z
UID:10001910-1751626800-1751637600@www.1880town.com
SUMMARY:Strong Man Steve Performance
DESCRIPTION:
URL:https://www.1880town.com/event/strong-man-steve-performance/
LOCATION:Black Smith Shop\, 24280 SD Hwy 63 I90 Exit\, 170\, Midland\, South Dakota\, 57552\, United States
CATEGORIES:Entertainer/Talent
END:VEVENT
END:VCALENDAR