BEGIN:VCALENDAR
VERSION:2.0
PRODID:-//1880 Town - ECPv6.15.20//NONSGML v1.0//EN
CALSCALE:GREGORIAN
METHOD:PUBLISH
X-ORIGINAL-URL:https://www.1880town.com
X-WR-CALDESC:Events for 1880 Town
REFRESH-INTERVAL;VALUE=DURATION:PT1H
X-Robots-Tag:noindex
X-PUBLISHED-TTL:PT1H
BEGIN:VTIMEZONE
TZID:America/Denver
BEGIN:DAYLIGHT
TZOFFSETFROM:-0700
TZOFFSETTO:-0600
TZNAME:MDT
DTSTART:20240310T090000
END:DAYLIGHT
BEGIN:STANDARD
TZOFFSETFROM:-0600
TZOFFSETTO:-0700
TZNAME:MST
DTSTART:20241103T080000
END:STANDARD
BEGIN:DAYLIGHT
TZOFFSETFROM:-0700
TZOFFSETTO:-0600
TZNAME:MDT
DTSTART:20250309T090000
END:DAYLIGHT
BEGIN:STANDARD
TZOFFSETFROM:-0600
TZOFFSETTO:-0700
TZNAME:MST
DTSTART:20251102T080000
END:STANDARD
BEGIN:DAYLIGHT
TZOFFSETFROM:-0700
TZOFFSETTO:-0600
TZNAME:MDT
DTSTART:20260308T090000
END:DAYLIGHT
BEGIN:STANDARD
TZOFFSETFROM:-0600
TZOFFSETTO:-0700
TZNAME:MST
DTSTART:20261101T080000
END:STANDARD
END:VTIMEZONE
BEGIN:VEVENT
DTSTART;TZID=America/Denver:20250831T160000
DTEND;TZID=America/Denver:20250831T170000
DTSTAMP:20260420T091352
CREATED:20250529T194438Z
LAST-MODIFIED:20250529T195029Z
UID:10002619-1756656000-1756659600@www.1880town.com
SUMMARY:Chris Von Arx - 4 pm Show
DESCRIPTION:
URL:https://www.1880town.com/event/chris-von-arx-4-pm-show-2/2025-08-31/
LOCATION:Longhorn Saloon Stage\, 24280 SD Hwy 63 I90 Exit\, 170\, Midland\, SD\, 57552\, United States
CATEGORIES:Musical Performance
END:VEVENT
BEGIN:VEVENT
DTSTART;TZID=America/Denver:20250831T140000
DTEND;TZID=America/Denver:20250831T140000
DTSTAMP:20260420T091352
CREATED:20250529T194317Z
LAST-MODIFIED:20250529T194951Z
UID:10002618-1756648800-1756648800@www.1880town.com
SUMMARY:Chris Von Arx - 2 pm Show
DESCRIPTION:
URL:https://www.1880town.com/event/chris-von-arx-2-pm-show-2/2025-08-31/
LOCATION:Longhorn Saloon Stage\, 24280 SD Hwy 63 I90 Exit\, 170\, Midland\, SD\, 57552\, United States
CATEGORIES:Musical Performance
END:VEVENT
BEGIN:VEVENT
DTSTART;TZID=America/Denver:20250831T100000
DTEND;TZID=America/Denver:20250831T110000
DTSTAMP:20260420T091352
CREATED:20250529T194015Z
LAST-MODIFIED:20250529T194920Z
UID:10002617-1756634400-1756638000@www.1880town.com
SUMMARY:Chris Von Arx - 10 am Show
DESCRIPTION:
URL:https://www.1880town.com/event/chris-von-arx-10-am-show-2/2025-08-31/
LOCATION:Longhorn Saloon Stage\, 24280 SD Hwy 63 I90 Exit\, 170\, Midland\, SD\, 57552\, United States
CATEGORIES:Musical Performance
END:VEVENT
BEGIN:VEVENT
DTSTART;TZID=America/Denver:20250830T160000
DTEND;TZID=America/Denver:20250830T170000
DTSTAMP:20260420T091352
CREATED:20250529T194438Z
LAST-MODIFIED:20250529T195029Z
UID:10002614-1756569600-1756573200@www.1880town.com
SUMMARY:Chris Von Arx - 4 pm Show
DESCRIPTION:
URL:https://www.1880town.com/event/chris-von-arx-4-pm-show-2/2025-08-30/
LOCATION:Longhorn Saloon Stage\, 24280 SD Hwy 63 I90 Exit\, 170\, Midland\, SD\, 57552\, United States
CATEGORIES:Musical Performance
END:VEVENT
BEGIN:VEVENT
DTSTART;TZID=America/Denver:20250830T140000
DTEND;TZID=America/Denver:20250830T140000
DTSTAMP:20260420T091352
CREATED:20250529T194317Z
LAST-MODIFIED:20250529T194951Z
UID:10002612-1756562400-1756562400@www.1880town.com
SUMMARY:Chris Von Arx - 2 pm Show
DESCRIPTION:
URL:https://www.1880town.com/event/chris-von-arx-2-pm-show-2/2025-08-30/
LOCATION:Longhorn Saloon Stage\, 24280 SD Hwy 63 I90 Exit\, 170\, Midland\, SD\, 57552\, United States
CATEGORIES:Musical Performance
END:VEVENT
BEGIN:VEVENT
DTSTART;TZID=America/Denver:20250830T100000
DTEND;TZID=America/Denver:20250830T110000
DTSTAMP:20260420T091352
CREATED:20250529T194015Z
LAST-MODIFIED:20250529T194920Z
UID:10002610-1756548000-1756551600@www.1880town.com
SUMMARY:Chris Von Arx - 10 am Show
DESCRIPTION:
URL:https://www.1880town.com/event/chris-von-arx-10-am-show-2/2025-08-30/
LOCATION:Longhorn Saloon Stage\, 24280 SD Hwy 63 I90 Exit\, 170\, Midland\, SD\, 57552\, United States
CATEGORIES:Musical Performance
END:VEVENT
BEGIN:VEVENT
DTSTART;TZID=America/Denver:20250829T160000
DTEND;TZID=America/Denver:20250829T170000
DTSTAMP:20260420T091352
CREATED:20250529T194438Z
LAST-MODIFIED:20250529T195029Z
UID:10002613-1756483200-1756486800@www.1880town.com
SUMMARY:Chris Von Arx - 4 pm Show
DESCRIPTION:
URL:https://www.1880town.com/event/chris-von-arx-4-pm-show-2/2025-08-29/
LOCATION:Longhorn Saloon Stage\, 24280 SD Hwy 63 I90 Exit\, 170\, Midland\, SD\, 57552\, United States
CATEGORIES:Musical Performance
END:VEVENT
BEGIN:VEVENT
DTSTART;TZID=America/Denver:20250829T140000
DTEND;TZID=America/Denver:20250829T140000
DTSTAMP:20260420T091352
CREATED:20250529T194317Z
LAST-MODIFIED:20250529T194951Z
UID:10002611-1756476000-1756476000@www.1880town.com
SUMMARY:Chris Von Arx - 2 pm Show
DESCRIPTION:
URL:https://www.1880town.com/event/chris-von-arx-2-pm-show-2/2025-08-29/
LOCATION:Longhorn Saloon Stage\, 24280 SD Hwy 63 I90 Exit\, 170\, Midland\, SD\, 57552\, United States
CATEGORIES:Musical Performance
END:VEVENT
BEGIN:VEVENT
DTSTART;TZID=America/Denver:20250829T100000
DTEND;TZID=America/Denver:20250829T110000
DTSTAMP:20260420T091352
CREATED:20250529T194015Z
LAST-MODIFIED:20250529T194920Z
UID:10002609-1756461600-1756465200@www.1880town.com
SUMMARY:Chris Von Arx - 10 am Show
DESCRIPTION:
URL:https://www.1880town.com/event/chris-von-arx-10-am-show-2/2025-08-29/
LOCATION:Longhorn Saloon Stage\, 24280 SD Hwy 63 I90 Exit\, 170\, Midland\, SD\, 57552\, United States
CATEGORIES:Musical Performance
END:VEVENT
BEGIN:VEVENT
DTSTART;TZID=America/Denver:20250817T140000
DTEND;TZID=America/Denver:20250817T150000
DTSTAMP:20260420T091352
CREATED:20250529T193315Z
LAST-MODIFIED:20250529T193550Z
UID:10002607-1755439200-1755442800@www.1880town.com
SUMMARY:Rusty Rierson - 2 pm Show
DESCRIPTION:
URL:https://www.1880town.com/event/rusty-rierson-2-pm-show-2/2025-08-17/
LOCATION:Longhorn Saloon Stage\, 24280 SD Hwy 63 I90 Exit\, 170\, Midland\, SD\, 57552\, United States
END:VEVENT
BEGIN:VEVENT
DTSTART;TZID=America/Denver:20250817T120000
DTEND;TZID=America/Denver:20250817T130000
DTSTAMP:20260420T091352
CREATED:20250529T193151Z
LAST-MODIFIED:20250529T193701Z
UID:10002608-1755432000-1755435600@www.1880town.com
SUMMARY:Rusty Rierson - 12 pm Show
DESCRIPTION:
URL:https://www.1880town.com/event/rusty-rierson-12pm-show/2025-08-17/
LOCATION:Longhorn Saloon Stage\, 24280 SD Hwy 63 I90 Exit\, 170\, Midland\, SD\, 57552\, United States
END:VEVENT
BEGIN:VEVENT
DTSTART;TZID=America/Denver:20250815T140000
DTEND;TZID=America/Denver:20250815T150000
DTSTAMP:20260420T091352
CREATED:20250529T193315Z
LAST-MODIFIED:20250529T193550Z
UID:10002606-1755266400-1755270000@www.1880town.com
SUMMARY:Rusty Rierson - 2 pm Show
DESCRIPTION:
URL:https://www.1880town.com/event/rusty-rierson-2-pm-show-2/2025-08-15/
LOCATION:Longhorn Saloon Stage\, 24280 SD Hwy 63 I90 Exit\, 170\, Midland\, SD\, 57552\, United States
END:VEVENT
BEGIN:VEVENT
DTSTART;TZID=America/Denver:20250815T120000
DTEND;TZID=America/Denver:20250815T130000
DTSTAMP:20260420T091352
CREATED:20250529T193151Z
LAST-MODIFIED:20250529T193701Z
UID:10002605-1755259200-1755262800@www.1880town.com
SUMMARY:Rusty Rierson - 12 pm Show
DESCRIPTION:
URL:https://www.1880town.com/event/rusty-rierson-12pm-show/2025-08-15/
LOCATION:Longhorn Saloon Stage\, 24280 SD Hwy 63 I90 Exit\, 170\, Midland\, SD\, 57552\, United States
END:VEVENT
BEGIN:VEVENT
DTSTART;TZID=America/Denver:20250727T160000
DTEND;TZID=America/Denver:20250727T170000
DTSTAMP:20260420T091352
CREATED:20250528T212438Z
LAST-MODIFIED:20250528T212438Z
UID:10002288-1753632000-1753635600@www.1880town.com
SUMMARY:Chris Von Arx - 4 pm Show
DESCRIPTION:
URL:https://www.1880town.com/event/chris-von-arx-4-pm-show/2025-07-27/
LOCATION:Longhorn Saloon Stage\, 24280 SD Hwy 63 I90 Exit\, 170\, Midland\, SD\, 57552\, United States
END:VEVENT
BEGIN:VEVENT
DTSTART;TZID=America/Denver:20250727T140000
DTEND;TZID=America/Denver:20250727T150000
DTSTAMP:20260420T091352
CREATED:20250528T212251Z
LAST-MODIFIED:20250528T212251Z
UID:10002285-1753624800-1753628400@www.1880town.com
SUMMARY:Chris Von Arx - 2 pm Show
DESCRIPTION:
URL:https://www.1880town.com/event/chris-von-arx-2-pm-show/2025-07-27/
LOCATION:Longhorn Saloon Stage\, 24280 SD Hwy 63 I90 Exit\, 170\, Midland\, SD\, 57552\, United States
END:VEVENT
BEGIN:VEVENT
DTSTART;TZID=America/Denver:20250727T100000
DTEND;TZID=America/Denver:20250727T230000
DTSTAMP:20260420T091352
CREATED:20250528T212132Z
LAST-MODIFIED:20250528T212353Z
UID:10001947-1753610400-1753657200@www.1880town.com
SUMMARY:Chris Von Arx - 10 am Show
DESCRIPTION:
URL:https://www.1880town.com/event/chris-von-arx-10-am-show/2025-07-27/
LOCATION:Longhorn Saloon Stage\, 24280 SD Hwy 63 I90 Exit\, 170\, Midland\, SD\, 57552\, United States
END:VEVENT
BEGIN:VEVENT
DTSTART;TZID=America/Denver:20250726T160000
DTEND;TZID=America/Denver:20250726T170000
DTSTAMP:20260420T091352
CREATED:20250528T212438Z
LAST-MODIFIED:20250528T212438Z
UID:10002287-1753545600-1753549200@www.1880town.com
SUMMARY:Chris Von Arx - 4 pm Show
DESCRIPTION:
URL:https://www.1880town.com/event/chris-von-arx-4-pm-show/2025-07-26/
LOCATION:Longhorn Saloon Stage\, 24280 SD Hwy 63 I90 Exit\, 170\, Midland\, SD\, 57552\, United States
END:VEVENT
BEGIN:VEVENT
DTSTART;TZID=America/Denver:20250726T140000
DTEND;TZID=America/Denver:20250726T150000
DTSTAMP:20260420T091352
CREATED:20250528T212251Z
LAST-MODIFIED:20250528T212251Z
UID:10002284-1753538400-1753542000@www.1880town.com
SUMMARY:Chris Von Arx - 2 pm Show
DESCRIPTION:
URL:https://www.1880town.com/event/chris-von-arx-2-pm-show/2025-07-26/
LOCATION:Longhorn Saloon Stage\, 24280 SD Hwy 63 I90 Exit\, 170\, Midland\, SD\, 57552\, United States
END:VEVENT
BEGIN:VEVENT
DTSTART;TZID=America/Denver:20250726T100000
DTEND;TZID=America/Denver:20250726T230000
DTSTAMP:20260420T091352
CREATED:20250528T212132Z
LAST-MODIFIED:20250528T212353Z
UID:10001946-1753524000-1753570800@www.1880town.com
SUMMARY:Chris Von Arx - 10 am Show
DESCRIPTION:
URL:https://www.1880town.com/event/chris-von-arx-10-am-show/2025-07-26/
LOCATION:Longhorn Saloon Stage\, 24280 SD Hwy 63 I90 Exit\, 170\, Midland\, SD\, 57552\, United States
END:VEVENT
BEGIN:VEVENT
DTSTART;TZID=America/Denver:20250725T160000
DTEND;TZID=America/Denver:20250725T170000
DTSTAMP:20260420T091352
CREATED:20250528T212438Z
LAST-MODIFIED:20250528T212438Z
UID:10002286-1753459200-1753462800@www.1880town.com
SUMMARY:Chris Von Arx - 4 pm Show
DESCRIPTION:
URL:https://www.1880town.com/event/chris-von-arx-4-pm-show/2025-07-25/
LOCATION:Longhorn Saloon Stage\, 24280 SD Hwy 63 I90 Exit\, 170\, Midland\, SD\, 57552\, United States
END:VEVENT
BEGIN:VEVENT
DTSTART;TZID=America/Denver:20250725T140000
DTEND;TZID=America/Denver:20250725T150000
DTSTAMP:20260420T091352
CREATED:20250528T212251Z
LAST-MODIFIED:20250528T212251Z
UID:10002283-1753452000-1753455600@www.1880town.com
SUMMARY:Chris Von Arx - 2 pm Show
DESCRIPTION:
URL:https://www.1880town.com/event/chris-von-arx-2-pm-show/2025-07-25/
LOCATION:Longhorn Saloon Stage\, 24280 SD Hwy 63 I90 Exit\, 170\, Midland\, SD\, 57552\, United States
END:VEVENT
BEGIN:VEVENT
DTSTART;TZID=America/Denver:20250725T100000
DTEND;TZID=America/Denver:20250725T230000
DTSTAMP:20260420T091352
CREATED:20250528T212132Z
LAST-MODIFIED:20250528T212353Z
UID:10001945-1753437600-1753484400@www.1880town.com
SUMMARY:Chris Von Arx - 10 am Show
DESCRIPTION:
URL:https://www.1880town.com/event/chris-von-arx-10-am-show/2025-07-25/
LOCATION:Longhorn Saloon Stage\, 24280 SD Hwy 63 I90 Exit\, 170\, Midland\, SD\, 57552\, United States
END:VEVENT
BEGIN:VEVENT
DTSTART;TZID=America/Denver:20250627T130000
DTEND;TZID=America/Denver:20250627T170000
DTSTAMP:20260420T091352
CREATED:20250528T210537Z
LAST-MODIFIED:20250528T211706Z
UID:10001552-1751029200-1751043600@www.1880town.com
SUMMARY:Black Hills and Beyond Music Concert
DESCRIPTION:
URL:https://www.1880town.com/event/black-hills-and-beyond-music-concert/
LOCATION:Longhorn Saloon Stage\, 24280 SD Hwy 63 I90 Exit\, 170\, Midland\, SD\, 57552\, United States
CATEGORIES:Musical Performance
END:VEVENT
BEGIN:VEVENT
DTSTART;TZID=America/Denver:20250621T140000
DTEND;TZID=America/Denver:20250621T170000
DTSTAMP:20260420T091352
CREATED:20250528T210437Z
LAST-MODIFIED:20250528T211716Z
UID:10001551-1750514400-1750525200@www.1880town.com
SUMMARY:Heart and Hills Music Concert
DESCRIPTION:
URL:https://www.1880town.com/event/heart-and-hills/
LOCATION:Longhorn Saloon Stage\, 24280 SD Hwy 63 I90 Exit\, 170\, Midland\, SD\, 57552\, United States
CATEGORIES:Musical Performance,Special Event
END:VEVENT
BEGIN:VEVENT
DTSTART;TZID=America/Denver:20250522T160000
DTEND;TZID=America/Denver:20250522T170000
DTSTAMP:20260420T091352
CREATED:20250522T170448Z
LAST-MODIFIED:20250520T171021Z
UID:10000003-1747929600-1747933200@www.1880town.com
SUMMARY:Chris Von Arx - 4 PM Musical Performance
DESCRIPTION:
URL:https://www.1880town.com/event/chris-von-arx-4-pm-musical-performance/
LOCATION:Longhorn Saloon Stage\, 24280 SD Hwy 63 I90 Exit\, 170\, Midland\, SD\, 57552\, United States
CATEGORIES:Musical Performance
END:VEVENT
BEGIN:VEVENT
DTSTART;TZID=America/Denver:20250522T150000
DTEND;TZID=America/Denver:20250522T160000
DTSTAMP:20260420T091352
CREATED:20250522T170825Z
LAST-MODIFIED:20250609T193016Z
UID:10000006-1747926000-1747929600@www.1880town.com
SUMMARY:Regulators - 3 PM Shootout
DESCRIPTION:
URL:https://www.1880town.com/event/regulators-3-pm-shootout-2/
LOCATION:Longhorn Saloon Stage\, 24280 SD Hwy 63 I90 Exit\, 170\, Midland\, SD\, 57552\, United States
CATEGORIES:Western Shootout
END:VEVENT
BEGIN:VEVENT
DTSTART;TZID=America/Denver:20250522T110000
DTEND;TZID=America/Denver:20250522T120000
DTSTAMP:20260420T091352
CREATED:20250522T170643Z
LAST-MODIFIED:20250609T192308Z
UID:10000004-1747911600-1747915200@www.1880town.com
SUMMARY:Regulators - 11 am Shootout
DESCRIPTION:
URL:https://www.1880town.com/event/regulators-11-am-shootout-2/
LOCATION:Longhorn Saloon Stage\, 24280 SD Hwy 63 I90 Exit\, 170\, Midland\, SD\, 57552\, United States
CATEGORIES:Western Shootout
END:VEVENT
END:VCALENDAR