BEGIN:VCALENDAR
VERSION:2.0
PRODID:-//1880 Town - ECPv6.15.20//NONSGML v1.0//EN
CALSCALE:GREGORIAN
METHOD:PUBLISH
X-ORIGINAL-URL:https://www.1880town.com
X-WR-CALDESC:Events for 1880 Town
REFRESH-INTERVAL;VALUE=DURATION:PT1H
X-Robots-Tag:noindex
X-PUBLISHED-TTL:PT1H
BEGIN:VTIMEZONE
TZID:America/Denver
BEGIN:DAYLIGHT
TZOFFSETFROM:-0700
TZOFFSETTO:-0600
TZNAME:MDT
DTSTART:20240310T090000
END:DAYLIGHT
BEGIN:STANDARD
TZOFFSETFROM:-0600
TZOFFSETTO:-0700
TZNAME:MST
DTSTART:20241103T080000
END:STANDARD
BEGIN:DAYLIGHT
TZOFFSETFROM:-0700
TZOFFSETTO:-0600
TZNAME:MDT
DTSTART:20250309T090000
END:DAYLIGHT
BEGIN:STANDARD
TZOFFSETFROM:-0600
TZOFFSETTO:-0700
TZNAME:MST
DTSTART:20251102T080000
END:STANDARD
BEGIN:DAYLIGHT
TZOFFSETFROM:-0700
TZOFFSETTO:-0600
TZNAME:MDT
DTSTART:20260308T090000
END:DAYLIGHT
BEGIN:STANDARD
TZOFFSETFROM:-0600
TZOFFSETTO:-0700
TZNAME:MST
DTSTART:20261101T080000
END:STANDARD
END:VTIMEZONE
BEGIN:VEVENT
DTSTART;TZID=America/Denver:20250601T120000
DTEND;TZID=America/Denver:20250601T130000
DTSTAMP:20260420T061204
CREATED:20250528T165022Z
LAST-MODIFIED:20250528T211620Z
UID:10000008-1748779200-1748782800@www.1880town.com
SUMMARY:Rusty Rierson - 12 pm Show
DESCRIPTION:
URL:https://www.1880town.com/event/rusty-rierson-gospel-hour-12-pm-show/
LOCATION:Main Street\, 24280 SD Hwy 63 I90 Exit\, 170\, Midland\, South Dakota\, 57552\, United States
CATEGORIES:Musical Performance
END:VEVENT
BEGIN:VEVENT
DTSTART;TZID=America/Denver:20250601T100000
DTEND;TZID=America/Denver:20250601T110000
DTSTAMP:20260420T061204
CREATED:20250528T164822Z
LAST-MODIFIED:20250528T211630Z
UID:10000007-1748772000-1748775600@www.1880town.com
SUMMARY:Rusty Rierson Gospel Hour
DESCRIPTION:
URL:https://www.1880town.com/event/rusty-rierson-gospel-hour-10-am-show/
LOCATION:Main Street\, 24280 SD Hwy 63 I90 Exit\, 170\, Midland\, South Dakota\, 57552\, United States
CATEGORIES:Musical Performance
END:VEVENT
BEGIN:VEVENT
DTSTART;TZID=America/Denver:20250522T130000
DTEND;TZID=America/Denver:20250522T140000
DTSTAMP:20260420T061204
CREATED:20250522T170725Z
LAST-MODIFIED:20250609T192313Z
UID:10000005-1747918800-1747922400@www.1880town.com
SUMMARY:Regulators - 1 PM Shootout
DESCRIPTION:
URL:https://www.1880town.com/event/regulators-1-pm-shootout-2/
LOCATION:Main Street\, 24280 SD Hwy 63 I90 Exit\, 170\, Midland\, South Dakota\, 57552\, United States
CATEGORIES:Western Shootout
END:VEVENT
END:VCALENDAR